BEGIN:VCALENDAR
VERSION:2.0
PRODID:-//North Haven Republicans - ECPv6.15.20//NONSGML v1.0//EN
CALSCALE:GREGORIAN
METHOD:PUBLISH
X-WR-CALNAME:North Haven Republicans
X-ORIGINAL-URL:https://www.northhavenrepublicans.org
X-WR-CALDESC:Events for North Haven Republicans
REFRESH-INTERVAL;VALUE=DURATION:PT1H
X-Robots-Tag:noindex
X-PUBLISHED-TTL:PT1H
BEGIN:VTIMEZONE
TZID:America/Cambridge_Bay
BEGIN:DAYLIGHT
TZOFFSETFROM:-0700
TZOFFSETTO:-0600
TZNAME:MDT
DTSTART:20240310T090000
END:DAYLIGHT
BEGIN:STANDARD
TZOFFSETFROM:-0600
TZOFFSETTO:-0700
TZNAME:MST
DTSTART:20241103T080000
END:STANDARD
BEGIN:DAYLIGHT
TZOFFSETFROM:-0700
TZOFFSETTO:-0600
TZNAME:MDT
DTSTART:20250309T090000
END:DAYLIGHT
BEGIN:STANDARD
TZOFFSETFROM:-0600
TZOFFSETTO:-0700
TZNAME:MST
DTSTART:20251102T080000
END:STANDARD
BEGIN:DAYLIGHT
TZOFFSETFROM:-0700
TZOFFSETTO:-0600
TZNAME:MDT
DTSTART:20260308T090000
END:DAYLIGHT
BEGIN:STANDARD
TZOFFSETFROM:-0600
TZOFFSETTO:-0700
TZNAME:MST
DTSTART:20261101T080000
END:STANDARD
END:VTIMEZONE
BEGIN:VEVENT
DTSTART;TZID=America/Cambridge_Bay:20250524T100000
DTEND;TZID=America/Cambridge_Bay:20250524T123000
DTSTAMP:20260422T083122
CREATED:20250424T111505Z
LAST-MODIFIED:20250424T111505Z
UID:676-1748080800-1748089800@www.northhavenrepublicans.org
SUMMARY:Memorial Day Parade
DESCRIPTION:
URL:https://www.northhavenrepublicans.org/event/memorial-day-parade/
END:VEVENT
END:VCALENDAR