BEGIN:VCALENDAR
VERSION:2.0
PRODID:-//North Haven Republicans - ECPv6.15.20//NONSGML v1.0//EN
CALSCALE:GREGORIAN
METHOD:PUBLISH
X-ORIGINAL-URL:https://www.northhavenrepublicans.org
X-WR-CALDESC:Events for North Haven Republicans
REFRESH-INTERVAL;VALUE=DURATION:PT1H
X-Robots-Tag:noindex
X-PUBLISHED-TTL:PT1H
BEGIN:VTIMEZONE
TZID:America/Cambridge_Bay
BEGIN:DAYLIGHT
TZOFFSETFROM:-0700
TZOFFSETTO:-0600
TZNAME:MDT
DTSTART:20240310T090000
END:DAYLIGHT
BEGIN:STANDARD
TZOFFSETFROM:-0600
TZOFFSETTO:-0700
TZNAME:MST
DTSTART:20241103T080000
END:STANDARD
BEGIN:DAYLIGHT
TZOFFSETFROM:-0700
TZOFFSETTO:-0600
TZNAME:MDT
DTSTART:20250309T090000
END:DAYLIGHT
BEGIN:STANDARD
TZOFFSETFROM:-0600
TZOFFSETTO:-0700
TZNAME:MST
DTSTART:20251102T080000
END:STANDARD
BEGIN:DAYLIGHT
TZOFFSETFROM:-0700
TZOFFSETTO:-0600
TZNAME:MDT
DTSTART:20260308T090000
END:DAYLIGHT
BEGIN:STANDARD
TZOFFSETFROM:-0600
TZOFFSETTO:-0700
TZNAME:MST
DTSTART:20261101T080000
END:STANDARD
BEGIN:DAYLIGHT
TZOFFSETFROM:-0700
TZOFFSETTO:-0600
TZNAME:MDT
DTSTART:20270314T090000
END:DAYLIGHT
BEGIN:STANDARD
TZOFFSETFROM:-0600
TZOFFSETTO:-0700
TZNAME:MST
DTSTART:20271107T080000
END:STANDARD
END:VTIMEZONE
BEGIN:VEVENT
DTSTART;TZID=America/Cambridge_Bay:20250909T190000
DTEND;TZID=America/Cambridge_Bay:20250909T203000
DTSTAMP:20260422T165713
CREATED:20250829T124936Z
LAST-MODIFIED:20250909T223508Z
UID:10000010-1757444400-1757449800@www.northhavenrepublicans.org
SUMMARY:Monthly Meeting
DESCRIPTION:
URL:https://www.northhavenrepublicans.org/event/monthly-meeting-4/
LOCATION:110 Washington Avenue (Lower Level Conference Room)\, 110 Washington Avenue\, North Haven\, CT\, 06473\, United States
ATTACH;FMTTYPE=image/jpeg:https://www.northhavenrepublicans.org/wp-content/uploads/2025/05/nhreps_lawnsign-scaled-1-e1746796796172.jpg
END:VEVENT
BEGIN:VEVENT
DTSTART;TZID=America/Cambridge_Bay:20251014T190000
DTEND;TZID=America/Cambridge_Bay:20251014T203000
DTSTAMP:20260422T165713
CREATED:20250909T223013Z
LAST-MODIFIED:20251013T124512Z
UID:10000011-1760468400-1760473800@www.northhavenrepublicans.org
SUMMARY:Monthly Meeting
DESCRIPTION:
URL:https://www.northhavenrepublicans.org/event/monthly-meeting-5/
LOCATION:West Ridge Fire House\, 1331 Ridge Road\, North Haven\, 06473\, United States
CATEGORIES:Meeting
ATTACH;FMTTYPE=image/jpeg:https://www.northhavenrepublicans.org/wp-content/uploads/2025/05/nhreps_lawnsign-scaled-1-e1746796796172.jpg
END:VEVENT
BEGIN:VEVENT
DTSTART;TZID=America/Cambridge_Bay:20251101T100000
DTEND;TZID=America/Cambridge_Bay:20251101T140000
DTSTAMP:20260422T165713
CREATED:20250731T103906Z
LAST-MODIFIED:20250731T103906Z
UID:10000009-1761991200-1762005600@www.northhavenrepublicans.org
SUMMARY:Food Drive to Benefit North Haven Food Pantries
DESCRIPTION:The North Haven Republican Town Committee is sponsoring a food drive to benefit the 2 North Haven food pantries on November 1\, 2025\, at the North Haven Stop & Shop on Washington Ave. from 10am – 2pm. \nSAVE THE DATE!  \nMuch needed shelf stable food items include: cereals\, hearty soups\, canned yams\, canned vegetables\, stuffing\, canned pumpkin\, evaporated milk\, muffin mixes\, tuna\, canned chicken\, turkey gravy\, fruit cocktail and instant mashed potatoes.  \nPlease bring/buy any of the suggested items listed above to the Stop & Shop collection site on November 1st. Thank you for supporting the local food pantries for families in need!
URL:https://www.northhavenrepublicans.org/event/food-drive-to-benefit-north-haven-food-pantries/
LOCATION:Stop and Shop of North Haven\, 79 Washington Avenue\, North Haven\, CT\, 06473\, United States
ATTACH;FMTTYPE=image/jpeg:https://www.northhavenrepublicans.org/wp-content/uploads/2025/02/1FA1A5FC-B5F5-4E87-A52C-DC7C850B01B5-scaled.jpeg
END:VEVENT
BEGIN:VEVENT
DTSTART;TZID=America/Cambridge_Bay:20251109T120000
DTEND;TZID=America/Cambridge_Bay:20251109T130000
DTSTAMP:20260422T165713
CREATED:20250729T135519Z
LAST-MODIFIED:20250731T113857Z
UID:10000008-1762689600-1762693200@www.northhavenrepublicans.org
SUMMARY:Veterans Day Flag Ceremony
DESCRIPTION:A ceremony honoring our veterans and first responders has been scheduled for Sunday\, November 9th at 12:00 pm on the North Haven Town Green. Please come and join us for this moving ceremony. \n“Honor Then with a Flag” Information \nThe North Haven Republican Town Committee is sponsoring “Honor Them with a Flag”\, a fundraiser to benefit the American Legion Post 76. It is a salute to our country’s military personnel\, veterans and first responders. The public is invited to participate by purchasing a U.S. flag dedicated to a member of our military\, first responder or anyone else close to your heart. The flags will go on display on the North Haven Town Green from the weekend before Veterans Day on Sunday November 9\, 2025 and displayed until November 29\, 2025. Each flag\, 12″ x 1 8″\, will have a white ribbon attached to it inscribed with the name and rank of the soldier\, first responder or loved one. Flags will be available for collection by purchaser until November 29th from the lawn at the North Haven Town Green. Proceeds will benefit the local veterans’ projects. The cost per flag is $10. There is no limit on purchases\, but all forms must be received no later than October 27th. For more information\, please contact Nick Mastrioanni at snm1986@yahoo.com or 203-430-0411. \nPlease fill out the File Request Form and send the form along with a check payable to: \nAmerican Legion Post 76\nP.O. Box 366\nNorth Haven\, CT 06473 \nDeadline for purchases is Wednesday\, October 27\, 2025.
URL:https://www.northhavenrepublicans.org/event/veterans-day-flag-ceremony/
LOCATION:North Haven Town Green\, 18 Church Street\, North Haven\, CT\, 06473\, United States
ATTACH;FMTTYPE=image/jpeg:https://www.northhavenrepublicans.org/wp-content/uploads/2025/02/FEEE736F-37EB-47D7-B2E9-BACA7ED9C166-1-scaled.jpeg
END:VEVENT
BEGIN:VEVENT
DTSTART;TZID=America/Cambridge_Bay:20251111T180000
DTEND;TZID=America/Cambridge_Bay:20251111T193000
DTSTAMP:20260422T165713
CREATED:20251106T172014Z
LAST-MODIFIED:20251106T172014Z
UID:10000012-1762884000-1762889400@www.northhavenrepublicans.org
SUMMARY:Monthly Meeting
DESCRIPTION:
URL:https://www.northhavenrepublicans.org/event/monthly-meeting-6/
LOCATION:West Ridge Fire House\, 1331 Ridge Road\, North Haven\, 06473\, United States
CATEGORIES:Meeting
ATTACH;FMTTYPE=image/jpeg:https://www.northhavenrepublicans.org/wp-content/uploads/2025/05/nhreps_lawnsign-scaled-1-e1746796796172.jpg
END:VEVENT
BEGIN:VEVENT
DTSTART;TZID=America/Cambridge_Bay:20260210T180000
DTEND;TZID=America/Cambridge_Bay:20260210T193000
DTSTAMP:20260422T165713
CREATED:20260209T141731Z
LAST-MODIFIED:20260209T142752Z
UID:10000013-1770746400-1770751800@www.northhavenrepublicans.org
SUMMARY:Monthly Meeting
DESCRIPTION:
URL:https://www.northhavenrepublicans.org/event/monthly-meeting-7/
LOCATION:Bellini’s Restaurant\, 2 Broadway\, North Haven\, CT\, 06473\, United States
CATEGORIES:Meeting
ATTACH;FMTTYPE=image/jpeg:https://www.northhavenrepublicans.org/wp-content/uploads/2025/05/nhreps_lawnsign-scaled-1-e1746796796172.jpg
END:VEVENT
END:VCALENDAR